BEGIN:VCALENDAR
VERSION:2.0
PRODID:-//StreamRadar//Match Calendar//EN
CALSCALE:GREGORIAN
METHOD:PUBLISH
X-WR-CALNAME:Rodina Moskva vs Chelyabinsk
X-WR-TIMEZONE:America/New_York
BEGIN:VEVENT
UID:match-5619498@streamradar.soccer
SUMMARY:Rodina Moskva vs Chelyabinsk
DTSTAMP:20260423T211903Z
DTSTART;TZID=America/New_York:20260508T133000
DTEND;TZID=America/New_York:20260508T153000
LOCATION:Arena Khimki
DESCRIPTION:Dove vedere Rodina Moskva vs Chelyabinsk in Russia - FNL. Strea
 ming live e programmazione TV.\nhttps://streamradar.soccer/it/match/5619498
 /rodina-moskva-vs-chelyabinsk/
URL;VALUE=URI:https://streamradar.soccer/it/match/5619498/rodina-moskva-vs-
 chelyabinsk/
STATUS:CONFIRMED
END:VEVENT
END:VCALENDAR
