BEGIN:VCALENDAR
VERSION:2.0
PRODID:-//StreamRadar//Match Calendar//EN
CALSCALE:GREGORIAN
METHOD:PUBLISH
X-WR-CALNAME:FC Cincinnati II vs Toronto II
X-WR-TIMEZONE:America/New_York
BEGIN:VEVENT
UID:match-5618980@streamradar.soccer
SUMMARY:FC Cincinnati II vs Toronto II
DTSTAMP:20260422T120813Z
DTSTART;TZID=America/New_York:20260503T190000
DTEND;TZID=America/New_York:20260503T210000
LOCATION:NKU Soccer Stadium
DESCRIPTION:Dove vedere FC Cincinnati II vs Toronto II in MLS Next Pro. Str
 eaming live e programmazione TV.\nhttps://streamradar.soccer/it/match/56189
 80/fc-cincinnati-ii-vs-toronto-ii/
URL;VALUE=URI:https://streamradar.soccer/it/match/5618980/fc-cincinnati-ii-
 vs-toronto-ii/
STATUS:CONFIRMED
END:VEVENT
END:VCALENDAR
