BEGIN:VCALENDAR
VERSION:2.0
PRODID:-//StreamRadar//Match Calendar//EN
CALSCALE:GREGORIAN
METHOD:PUBLISH
X-WR-CALNAME:Sheger Ketema vs Mekelle 70 Enderta
X-WR-TIMEZONE:America/New_York
BEGIN:VEVENT
UID:match-5618908@streamradar.soccer
SUMMARY:Sheger Ketema vs Mekelle 70 Enderta
DTSTAMP:20260422T161801Z
DTSTART;TZID=America/New_York:20260520T060000
DTEND;TZID=America/New_York:20260520T080000
DESCRIPTION:Dove vedere Sheger Ketema vs Mekelle 70 Enderta in Etiopia - Pr
 emier League. Streaming live e programmazione TV.\nhttps://streamradar.socc
 er/it/match/5618908/sheger-ketema-vs-mekelle-70-enderta/
URL;VALUE=URI:https://streamradar.soccer/it/match/5618908/sheger-ketema-vs-
 mekelle-70-enderta/
STATUS:CONFIRMED
END:VEVENT
END:VCALENDAR
