BEGIN:VCALENDAR
VERSION:2.0
PRODID:-//StreamRadar//Match Calendar//EN
CALSCALE:GREGORIAN
METHOD:PUBLISH
X-WR-CALNAME:Saipa vs Mes Soongoun
X-WR-TIMEZONE:America/New_York
BEGIN:VEVENT
UID:match-5618859@streamradar.soccer
SUMMARY:Saipa vs Mes Soongoun
DTSTAMP:20260422T104956Z
DTSTART;TZID=America/New_York:20260514T110000
DTEND;TZID=America/New_York:20260514T130000
DESCRIPTION:Dove vedere Saipa vs Mes Soongoun in Iran - Azadegan League. St
 reaming live e programmazione TV.\nhttps://streamradar.soccer/it/match/5618
 859/saipa-vs-mes-soongoun/
URL;VALUE=URI:https://streamradar.soccer/it/match/5618859/saipa-vs-mes-soon
 goun/
STATUS:CONFIRMED
END:VEVENT
END:VCALENDAR
