BEGIN:VCALENDAR
VERSION:2.0
PRODID:-//StreamRadar//Match Calendar//EN
CALSCALE:GREGORIAN
METHOD:PUBLISH
X-WR-CALNAME:BFA vs Babrungas
X-WR-TIMEZONE:America/New_York
BEGIN:VEVENT
UID:match-5618839@streamradar.soccer
SUMMARY:BFA vs Babrungas
DTSTAMP:20260423T140415Z
DTSTART;TZID=America/New_York:20260428T123000
DTEND;TZID=America/New_York:20260428T143000
LOCATION:Sirvintu stadionas
DESCRIPTION:Dove vedere BFA vs Babrungas in Lituania - Coppa LFF. Streaming
  live e programmazione TV.\nhttps://streamradar.soccer/it/match/5618839/bfa
 -vs-babrungas/
URL;VALUE=URI:https://streamradar.soccer/it/match/5618839/bfa-vs-babrungas/
STATUS:CONFIRMED
END:VEVENT
END:VCALENDAR
