BEGIN:VCALENDAR
VERSION:2.0
PRODID:-//StreamRadar//Match Calendar//EN
CALSCALE:GREGORIAN
METHOD:PUBLISH
X-WR-CALNAME:Maccabi Herzliya vs Hapoel Rishon LeZion
X-WR-TIMEZONE:America/New_York
BEGIN:VEVENT
UID:match-5618822@streamradar.soccer
SUMMARY:Maccabi Herzliya vs Hapoel Rishon LeZion
DTSTAMP:20260422T101122Z
DTSTART;TZID=America/New_York:20260515T090000
DTEND;TZID=America/New_York:20260515T110000
DESCRIPTION:Dove vedere Maccabi Herzliya vs Hapoel Rishon LeZion in Israele
  - Liga Leumit. Streaming live e programmazione TV.\nhttps://streamradar.so
 ccer/it/match/5618822/maccabi-herzliya-vs-hapoel-rishon-lezion/
URL;VALUE=URI:https://streamradar.soccer/it/match/5618822/maccabi-herzliya-
 vs-hapoel-rishon-lezion/
STATUS:CONFIRMED
END:VEVENT
END:VCALENDAR
