BEGIN:VCALENDAR
VERSION:2.0
PRODID:-//StreamRadar//Match Calendar//EN
CALSCALE:GREGORIAN
METHOD:PUBLISH
X-WR-CALNAME:Hapoel Ramat Gan vs Bnei Yehuda
X-WR-TIMEZONE:America/New_York
BEGIN:VEVENT
UID:match-5618804@streamradar.soccer
SUMMARY:Hapoel Ramat Gan vs Bnei Yehuda
DTSTAMP:20260422T121624Z
DTSTART;TZID=America/New_York:20260427T120000
DTEND;TZID=America/New_York:20260427T140000
LOCATION:National Stadium Ramat Gan (Ramat Gan)
DESCRIPTION:Dove vedere Hapoel Ramat Gan vs Bnei Yehuda in Israele - Liga L
 eumit. Streaming live e programmazione TV.\nhttps://streamradar.soccer/it/m
 atch/5618804/hapoel-ramat-gan-vs-bnei-yehuda/
URL;VALUE=URI:https://streamradar.soccer/it/match/5618804/hapoel-ramat-gan-
 vs-bnei-yehuda/
STATUS:CONFIRMED
END:VEVENT
END:VCALENDAR
