BEGIN:VCALENDAR
VERSION:2.0
PRODID:-//StreamRadar//Match Calendar//EN
CALSCALE:GREGORIAN
METHOD:PUBLISH
X-WR-CALNAME:Maccabi Kabilio Jaffa vs Kafr Qasim
X-WR-TIMEZONE:America/New_York
BEGIN:VEVENT
UID:match-5618798@streamradar.soccer
SUMMARY:Maccabi Kabilio Jaffa vs Kafr Qasim
DTSTAMP:20260422T110740Z
DTSTART;TZID=America/New_York:20260515T090000
DTEND;TZID=America/New_York:20260515T110000
DESCRIPTION:Dove vedere Maccabi Kabilio Jaffa vs Kafr Qasim in Israele - Li
 ga Leumit. Streaming live e programmazione TV.\nhttps://streamradar.soccer/
 it/match/5618798/maccabi-kabilio-jaffa-vs-kafr-qasim/
URL;VALUE=URI:https://streamradar.soccer/it/match/5618798/maccabi-kabilio-j
 affa-vs-kafr-qasim/
STATUS:CONFIRMED
END:VEVENT
END:VCALENDAR
