BEGIN:VCALENDAR
VERSION:2.0
PRODID:-//StreamRadar//Match Calendar//EN
CALSCALE:GREGORIAN
METHOD:PUBLISH
X-WR-CALNAME:Crusaders vs Annagh United
X-WR-TIMEZONE:America/New_York
BEGIN:VEVENT
UID:match-5618730@streamradar.soccer
SUMMARY:Crusaders vs Annagh United
DTSTAMP:20260422T110647Z
DTSTART;TZID=America/New_York:20260501T144500
DTEND;TZID=America/New_York:20260501T164500
LOCATION:Seaview
DESCRIPTION:Dove vedere Crusaders vs Annagh United in Irlanda del Nord - NI
 FL Premiership. Streaming live e programmazione TV.\nhttps://streamradar.so
 ccer/it/match/5618730/crusaders-vs-annagh-united/
URL;VALUE=URI:https://streamradar.soccer/it/match/5618730/crusaders-vs-anna
 gh-united/
STATUS:CONFIRMED
END:VEVENT
END:VCALENDAR
