BEGIN:VCALENDAR
VERSION:2.0
PRODID:-//StreamRadar//Match Calendar//EN
CALSCALE:GREGORIAN
METHOD:PUBLISH
X-WR-CALNAME:Sreenidi Deccan vs Shillong Lajong
X-WR-TIMEZONE:America/New_York
BEGIN:VEVENT
UID:match-5618721@streamradar.soccer
SUMMARY:Sreenidi Deccan vs Shillong Lajong
DTSTAMP:20260422T121015Z
DTSTART;TZID=America/New_York:20260510T090000
DTEND;TZID=America/New_York:20260510T110000
LOCATION:Deccan Arena
DESCRIPTION:Dove vedere Sreenidi Deccan vs Shillong Lajong in India - I-Lea
 gue. Streaming live e programmazione TV.\nhttps://streamradar.soccer/it/mat
 ch/5618721/sreenidi-deccan-vs-shillong-lajong/
URL;VALUE=URI:https://streamradar.soccer/it/match/5618721/sreenidi-deccan-v
 s-shillong-lajong/
STATUS:CONFIRMED
END:VEVENT
END:VCALENDAR
