BEGIN:VCALENDAR
VERSION:2.0
PRODID:-//StreamRadar//Match Calendar//EN
CALSCALE:GREGORIAN
METHOD:PUBLISH
X-WR-CALNAME:Olympic Safi vs Ittihad Tanger
X-WR-TIMEZONE:America/New_York
BEGIN:VEVENT
UID:match-5618088@streamradar.soccer
SUMMARY:Olympic Safi vs Ittihad Tanger
DTSTAMP:20260421T104318Z
DTSTART;TZID=America/New_York:20260429T130000
DTEND;TZID=America/New_York:20260429T150000
LOCATION:Stade El Massira
DESCRIPTION:Dove vedere Olympic Safi vs Ittihad Tanger in Marocco - Botola 
 Pro. Streaming live e programmazione TV.\nhttps://streamradar.soccer/it/mat
 ch/5618088/olympic-safi-vs-ittihad-tanger/
URL;VALUE=URI:https://streamradar.soccer/it/match/5618088/olympic-safi-vs-i
 ttihad-tanger/
STATUS:CONFIRMED
END:VEVENT
END:VCALENDAR
