BEGIN:VCALENDAR
VERSION:2.0
PRODID:-//StreamRadar//Match Calendar//EN
CALSCALE:GREGORIAN
METHOD:PUBLISH
X-WR-CALNAME:Å½ilina vs ZemplÃ­n Michalovce
X-WR-TIMEZONE:America/New_York
BEGIN:VEVENT
UID:match-5618084@streamradar.soccer
SUMMARY:Å½ilina vs ZemplÃ­n Michalovce
DTSTAMP:20260421T120523Z
DTSTART;TZID=America/New_York:20260505T120000
DTEND;TZID=America/New_York:20260505T140000
DESCRIPTION:Dove vedere Å½ilina vs ZemplÃ­n Michalovce in Slovacchia - NikÃ
 © liga. Streaming live e programmazione TV.\nhttps://streamradar.soccer/it/
 match/5618084/zilina-vs-zemplin-michalovce/
URL;VALUE=URI:https://streamradar.soccer/it/match/5618084/zilina-vs-zemplin
 -michalovce/
STATUS:CONFIRMED
END:VEVENT
END:VCALENDAR
