BEGIN:VCALENDAR
VERSION:2.0
PRODID:-//StreamRadar//Match Calendar//EN
CALSCALE:GREGORIAN
METHOD:PUBLISH
X-WR-CALNAME:Cherno More vs Arda
X-WR-TIMEZONE:America/New_York
BEGIN:VEVENT
UID:match-5618068@streamradar.soccer
SUMMARY:Cherno More vs Arda
DTSTAMP:20260421T114430Z
DTSTART;TZID=America/New_York:20260525T104500
DTEND;TZID=America/New_York:20260525T124500
LOCATION:Ticha
DESCRIPTION:Dove vedere Cherno More vs Arda in Bulgaria - Parva Liga. Strea
 ming live e programmazione TV.\nhttps://streamradar.soccer/it/match/5618068
 /cherno-more-vs-arda/
URL;VALUE=URI:https://streamradar.soccer/it/match/5618068/cherno-more-vs-ar
 da/
STATUS:CONFIRMED
END:VEVENT
END:VCALENDAR
