BEGIN:VCALENDAR
VERSION:2.0
PRODID:-//StreamRadar//Match Calendar//EN
CALSCALE:GREGORIAN
METHOD:PUBLISH
X-WR-CALNAME:Heart of Midlothian LFC vs Partick Thistle
X-WR-TIMEZONE:America/New_York
BEGIN:VEVENT
UID:match-5617954@streamradar.soccer
SUMMARY:Heart of Midlothian LFC vs Partick Thistle
DTSTAMP:20260421T042202Z
DTSTART;TZID=America/New_York:20260428T143000
DTEND;TZID=America/New_York:20260428T163000
DESCRIPTION:Dove vedere Heart Of Midlothian LFC vs Partick Thistle in Scozi
 a - SWPL 1. Streaming live e programmazione TV.\nhttps://streamradar.soccer
 /it/match/5617954/heart-of-midlothian-lfc-vs-partick-thistle/
URL;VALUE=URI:https://streamradar.soccer/it/match/5617954/heart-of-midlothi
 an-lfc-vs-partick-thistle/
STATUS:CONFIRMED
END:VEVENT
END:VCALENDAR
