BEGIN:VCALENDAR
VERSION:2.0
PRODID:-//StreamRadar//Match Calendar//EN
CALSCALE:GREGORIAN
METHOD:PUBLISH
X-WR-CALNAME:Solin vs Dakovo-Croatia
X-WR-TIMEZONE:America/New_York
BEGIN:VEVENT
UID:match-5617486@streamradar.soccer
SUMMARY:Solin vs Dakovo-Croatia
DTSTAMP:20260421T050535Z
DTSTART;TZID=America/New_York:20260502T110000
DTEND;TZID=America/New_York:20260502T130000
LOCATION:Stadion Pokraj Jadra
DESCRIPTION:Dove vedere Solin vs Dakovo-Croatia in Croazia - Druga NL. Stre
 aming live e programmazione TV.\nhttps://streamradar.soccer/it/match/561748
 6/solin-vs-dakovo-croatia/
URL;VALUE=URI:https://streamradar.soccer/it/match/5617486/solin-vs-dakovo-c
 roatia/
STATUS:CONFIRMED
END:VEVENT
END:VCALENDAR
