BEGIN:VCALENDAR
VERSION:2.0
PRODID:-//StreamRadar//Match Calendar//EN
CALSCALE:GREGORIAN
METHOD:PUBLISH
X-WR-CALNAME:Hapoel Be'er Sheva vs Maccabi Tel Aviv
X-WR-TIMEZONE:America/New_York
BEGIN:VEVENT
UID:match-5617400@streamradar.soccer
SUMMARY:Hapoel Be'er Sheva vs Maccabi Tel Aviv
DTSTAMP:20260421T092509Z
DTSTART;TZID=America/New_York:20260519T130000
DTEND;TZID=America/New_York:20260519T150000
LOCATION:Toto Turner Stadium
DESCRIPTION:Dove vedere Hapoel Be'er Sheva vs Maccabi Tel Aviv in Israele -
  Ligat Ha'Al. Streaming live e programmazione TV.\nhttps://streamradar.socc
 er/it/match/5617400/hapoel-beer-sheva-vs-maccabi-tel-aviv/
URL;VALUE=URI:https://streamradar.soccer/it/match/5617400/hapoel-beer-sheva
 -vs-maccabi-tel-aviv/
STATUS:CONFIRMED
END:VEVENT
END:VCALENDAR
