BEGIN:VCALENDAR
VERSION:2.0
PRODID:-//StreamRadar//Match Calendar//EN
CALSCALE:GREGORIAN
METHOD:PUBLISH
X-WR-CALNAME:Atenas vs Fénix
X-WR-TIMEZONE:America/New_York
BEGIN:VEVENT
UID:match-5617055@streamradar.soccer
SUMMARY:Atenas vs Fénix
DTSTAMP:20260419T121857Z
DTSTART;TZID=America/New_York:20260427T180000
DTEND;TZID=America/New_York:20260427T200000
DESCRIPTION:Dove vedere Atenas vs Fénix in Uruguay - Segunda División. St
 reaming live e programmazione TV.\nhttps://streamradar.soccer/it/match/5617
 055/atenas-vs-fenix/
URL;VALUE=URI:https://streamradar.soccer/it/match/5617055/atenas-vs-fenix/
STATUS:CONFIRMED
END:VEVENT
END:VCALENDAR
