BEGIN:VCALENDAR
VERSION:2.0
PRODID:-//StreamRadar//Match Calendar//EN
CALSCALE:GREGORIAN
METHOD:PUBLISH
X-WR-CALNAME:Vaajakoski vs Kraft
X-WR-TIMEZONE:America/New_York
BEGIN:VEVENT
UID:match-5617013@streamradar.soccer
SUMMARY:Vaajakoski vs Kraft
DTSTAMP:20260419T121745Z
DTSTART;TZID=America/New_York:20260509T110000
DTEND;TZID=America/New_York:20260509T130000
LOCATION:Vaajakosken keskuskentta
DESCRIPTION:Dove vedere Vaajakoski vs Kraft in Finlandia - Kakkonen. Stream
 ing live e programmazione TV.\nhttps://streamradar.soccer/it/match/5617013/
 vaajakoski-vs-kraft/
URL;VALUE=URI:https://streamradar.soccer/it/match/5617013/vaajakoski-vs-kra
 ft/
STATUS:CONFIRMED
END:VEVENT
END:VCALENDAR
