BEGIN:VCALENDAR
VERSION:2.0
PRODID:-//StreamRadar//Match Calendar//EN
CALSCALE:GREGORIAN
METHOD:PUBLISH
X-WR-CALNAME:Ethiopia Nigd Bank vs Sheger Ketema
X-WR-TIMEZONE:America/New_York
BEGIN:VEVENT
UID:match-5616933@streamradar.soccer
SUMMARY:Ethiopia Nigd Bank vs Sheger Ketema
DTSTAMP:20260421T071545Z
DTSTART;TZID=America/New_York:20260515T090000
DTEND;TZID=America/New_York:20260515T110000
DESCRIPTION:Dove vedere Ethiopia Nigd Bank vs Sheger Ketema in Etiopia - Pr
 emier League. Streaming live e programmazione TV.\nhttps://streamradar.socc
 er/it/match/5616933/ethiopia-nigd-bank-vs-sheger-ketema/
URL;VALUE=URI:https://streamradar.soccer/it/match/5616933/ethiopia-nigd-ban
 k-vs-sheger-ketema/
STATUS:CONFIRMED
END:VEVENT
END:VCALENDAR
