BEGIN:VCALENDAR
VERSION:2.0
PRODID:-//StreamRadar//Match Calendar//EN
CALSCALE:GREGORIAN
METHOD:PUBLISH
X-WR-CALNAME:Ethiopian Insurance vs Awassa Kenema
X-WR-TIMEZONE:America/New_York
BEGIN:VEVENT
UID:match-5616897@streamradar.soccer
SUMMARY:Ethiopian Insurance vs Awassa Kenema
DTSTAMP:20260421T050528Z
DTSTART;TZID=America/New_York:20260429T060000
DTEND;TZID=America/New_York:20260429T080000
DESCRIPTION:Dove vedere Ethiopian Insurance vs Awassa Kenema in Etiopia - P
 remier League. Streaming live e programmazione TV.\nhttps://streamradar.soc
 cer/it/match/5616897/ethiopian-insurance-vs-awassa-kenema/
URL;VALUE=URI:https://streamradar.soccer/it/match/5616897/ethiopian-insuran
 ce-vs-awassa-kenema/
STATUS:CONFIRMED
END:VEVENT
END:VCALENDAR
