BEGIN:VCALENDAR
VERSION:2.0
PRODID:-//StreamRadar//Match Calendar//EN
CALSCALE:GREGORIAN
METHOD:PUBLISH
X-WR-CALNAME:Yerolakkou vs APEA
X-WR-TIMEZONE:America/New_York
BEGIN:VEVENT
UID:match-5616889@streamradar.soccer
SUMMARY:Yerolakkou vs APEA
DTSTAMP:20260421T050505Z
DTSTART;TZID=America/New_York:20260421T100000
DTEND;TZID=America/New_York:20260421T120000
LOCATION:Gipedo Dimitris Chamatsos (Dali)
DESCRIPTION:Dove vedere Yerolakkou vs APEA in Seconda Divisione Cipriota. S
 treaming live e programmazione TV.\nhttps://streamradar.soccer/it/match/561
 6889/yerolakkou-vs-apea/
URL;VALUE=URI:https://streamradar.soccer/it/match/5616889/yerolakkou-vs-ape
 a/
STATUS:CONFIRMED
END:VEVENT
END:VCALENDAR
