BEGIN:VCALENDAR
VERSION:2.0
PRODID:-//StreamRadar//Match Calendar//EN
CALSCALE:GREGORIAN
METHOD:PUBLISH
X-WR-CALNAME:Prishtina vs Gjilani
X-WR-TIMEZONE:America/New_York
BEGIN:VEVENT
UID:match-5616886@streamradar.soccer
SUMMARY:Prishtina vs Gjilani
DTSTAMP:20260421T055554Z
DTSTART;TZID=America/New_York:20260425T090000
DTEND;TZID=America/New_York:20260425T110000
LOCATION:Stadiumi Fadil Vokrri (PrishtinĂ« (Pristina))
DESCRIPTION:Dove vedere Prishtina vs Gjilani in Kosovo - Superliga e KosovĂ
 «s. Streaming live e programmazione TV.\nhttps://streamradar.soccer/it/matc
 h/5616886/prishtina-vs-gjilani/
URL;VALUE=URI:https://streamradar.soccer/it/match/5616886/prishtina-vs-gjil
 ani/
STATUS:CONFIRMED
END:VEVENT
END:VCALENDAR
