BEGIN:VCALENDAR
VERSION:2.0
PRODID:-//StreamRadar//Match Calendar//EN
CALSCALE:GREGORIAN
METHOD:PUBLISH
X-WR-CALNAME:Bahla vs Al Nahda
X-WR-TIMEZONE:America/New_York
BEGIN:VEVENT
UID:match-5616865@streamradar.soccer
SUMMARY:Bahla vs Al Nahda
DTSTAMP:20260421T104110Z
DTSTART;TZID=America/New_York:20260518T112000
DTEND;TZID=America/New_York:20260518T132000
DESCRIPTION:Dove vedere Bahla vs Al Nahda in Omani League. Streaming live e
  programmazione TV.\nhttps://streamradar.soccer/it/match/5616865/bahla-vs-a
 l-nahda/
URL;VALUE=URI:https://streamradar.soccer/it/match/5616865/bahla-vs-al-nahda
 /
STATUS:CONFIRMED
END:VEVENT
END:VCALENDAR
