BEGIN:VCALENDAR
VERSION:2.0
PRODID:-//StreamRadar//Match Calendar//EN
CALSCALE:GREGORIAN
METHOD:PUBLISH
X-WR-CALNAME:Karvan vs Neftçi
X-WR-TIMEZONE:America/New_York
BEGIN:VEVENT
UID:match-5616855@streamradar.soccer
SUMMARY:Karvan vs Neftçi
DTSTAMP:20260421T071319Z
DTSTART;TZID=America/New_York:20260505T080000
DTEND;TZID=America/New_York:20260505T100000
LOCATION:Yevlakh City Stadium
DESCRIPTION:Dove vedere Karvan vs Neftçi in Azerbaigian - Premier League. 
 Streaming live e programmazione TV.\nhttps://streamradar.soccer/it/match/56
 16855/karvan-vs-neftci/
URL;VALUE=URI:https://streamradar.soccer/it/match/5616855/karvan-vs-neftci/
STATUS:CONFIRMED
END:VEVENT
END:VCALENDAR
