BEGIN:VCALENDAR
VERSION:2.0
PRODID:-//StreamRadar//Match Calendar//EN
CALSCALE:GREGORIAN
METHOD:PUBLISH
X-WR-CALNAME:Luki-Energiya vs Torpedo Vladimir
X-WR-TIMEZONE:America/New_York
BEGIN:VEVENT
UID:match-5616269@streamradar.soccer
SUMMARY:Luki-Energiya vs Torpedo Vladimir
DTSTAMP:20260421T063148Z
DTSTART;TZID=America/New_York:20260517T090000
DTEND;TZID=America/New_York:20260517T110000
DESCRIPTION:Dove vedere Luki-Energiya vs Torpedo Vladimir in Russia - FNL 2
 . Streaming live e programmazione TV.\nhttps://streamradar.soccer/it/match/
 5616269/luki-energiya-vs-torpedo-vladimir/
URL;VALUE=URI:https://streamradar.soccer/it/match/5616269/luki-energiya-vs-
 torpedo-vladimir/
STATUS:CONFIRMED
END:VEVENT
END:VCALENDAR
