BEGIN:VCALENDAR
VERSION:2.0
PRODID:-//StreamRadar//Match Calendar//EN
CALSCALE:GREGORIAN
METHOD:PUBLISH
X-WR-CALNAME:Seahorses vs AMSG
X-WR-TIMEZONE:America/New_York
BEGIN:VEVENT
UID:match-5616237@streamradar.soccer
SUMMARY:Seahorses vs AMSG
DTSTAMP:20260421T092957Z
DTSTART;TZID=America/New_York:20260516T220000
DTEND;TZID=America/New_York:20260517T000000
DESCRIPTION:Dove vedere Seahorses vs AMSG in USL League Two. Streaming live
  e programmazione TV.\nhttps://streamradar.soccer/it/match/5616237/seahorse
 s-vs-amsg/
URL;VALUE=URI:https://streamradar.soccer/it/match/5616237/seahorses-vs-amsg
 /
STATUS:CONFIRMED
END:VEVENT
END:VCALENDAR
