BEGIN:VCALENDAR
VERSION:2.0
PRODID:-//StreamRadar//Match Calendar//EN
CALSCALE:GREGORIAN
METHOD:PUBLISH
X-WR-CALNAME:St. Gallen II vs Widnau
X-WR-TIMEZONE:America/New_York
BEGIN:VEVENT
UID:match-5616220@streamradar.soccer
SUMMARY:St. Gallen II vs Widnau
DTSTAMP:20260421T092147Z
DTSTART;TZID=America/New_York:20260517T070000
DTEND;TZID=America/New_York:20260517T090000
DESCRIPTION:Dove vedere St. Gallen II vs Widnau in Svizzera - Prima Lega Cl
 assic. Streaming live e programmazione TV.\nhttps://streamradar.soccer/it/m
 atch/5616220/st-gallen-ii-vs-widnau/
URL;VALUE=URI:https://streamradar.soccer/it/match/5616220/st-gallen-ii-vs-w
 idnau/
STATUS:CONFIRMED
END:VEVENT
END:VCALENDAR
