BEGIN:VCALENDAR
VERSION:2.0
PRODID:-//StreamRadar//Match Calendar//EN
CALSCALE:GREGORIAN
METHOD:PUBLISH
X-WR-CALNAME:Al Duhail vs Al Arabi
X-WR-TIMEZONE:America/New_York
BEGIN:VEVENT
UID:match-5616215@streamradar.soccer
SUMMARY:Al Duhail vs Al Arabi
DTSTAMP:20260421T104210Z
DTSTART;TZID=America/New_York:20260501T101500
DTEND;TZID=America/New_York:20260501T121500
LOCATION:Abdullah bin Khalifa Stadium
DESCRIPTION:Dove vedere Al Duhail vs Al Arabi in Qatar - Coppa dell'Emiro d
 el Qatar. Streaming live e programmazione TV.\nhttps://streamradar.soccer/i
 t/match/5616215/al-duhail-vs-al-arabi/
URL;VALUE=URI:https://streamradar.soccer/it/match/5616215/al-duhail-vs-al-a
 rabi/
STATUS:CONFIRMED
END:VEVENT
END:VCALENDAR
