BEGIN:VCALENDAR
VERSION:2.0
PRODID:-//StreamRadar//Match Calendar//EN
CALSCALE:GREGORIAN
METHOD:PUBLISH
X-WR-CALNAME:Trollhattan vs AFC Malmo
X-WR-TIMEZONE:America/New_York
BEGIN:VEVENT
UID:match-5616209@streamradar.soccer
SUMMARY:Trollhattan vs AFC Malmo
DTSTAMP:20260421T103944Z
DTSTART;TZID=America/New_York:20260514T100000
DTEND;TZID=America/New_York:20260514T120000
LOCATION:Edsborgs IP
DESCRIPTION:Dove vedere Trollhattan vs AFC Malmo in Svezia - Ettan. Streami
 ng live e programmazione TV.\nhttps://streamradar.soccer/it/match/5616209/t
 rollhattan-vs-afc-malmo/
URL;VALUE=URI:https://streamradar.soccer/it/match/5616209/trollhattan-vs-af
 c-malmo/
STATUS:CONFIRMED
END:VEVENT
END:VCALENDAR
