BEGIN:VCALENDAR
VERSION:2.0
PRODID:-//StreamRadar//Match Calendar//EN
CALSCALE:GREGORIAN
METHOD:PUBLISH
X-WR-CALNAME:Academy vs Latinos
X-WR-TIMEZONE:America/New_York
BEGIN:VEVENT
UID:match-5616094@streamradar.soccer
SUMMARY:Academy vs Latinos
DTSTAMP:20260421T091938Z
DTSTART;TZID=America/New_York:20260419T200000
DTEND;TZID=America/New_York:20260419T220000
LOCATION:T.E. McField Sports Centre (George Town)
DESCRIPTION:Dove vedere Academy vs Latinos in Isole Cayman - Cayman Islands
  Premier League. Streaming live e programmazione TV.\nhttps://streamradar.s
 occer/it/match/5616094/academy-vs-latinos/
URL;VALUE=URI:https://streamradar.soccer/it/match/5616094/academy-vs-latino
 s/
STATUS:CONFIRMED
END:VEVENT
END:VCALENDAR
