BEGIN:VCALENDAR
VERSION:2.0
PRODID:-//StreamRadar//Match Calendar//EN
CALSCALE:GREGORIAN
METHOD:PUBLISH
X-WR-CALNAME:345 vs Elite
X-WR-TIMEZONE:America/New_York
BEGIN:VEVENT
UID:match-5616093@streamradar.soccer
SUMMARY:345 vs Elite
DTSTAMP:20260421T091728Z
DTSTART;TZID=America/New_York:20260419T200000
DTEND;TZID=America/New_York:20260419T220000
DESCRIPTION:Dove vedere 345 vs Elite in Isole Cayman - Cayman Islands Premi
 er League. Streaming live e programmazione TV.\nhttps://streamradar.soccer/
 it/match/5616093/345-vs-elite/
URL;VALUE=URI:https://streamradar.soccer/it/match/5616093/345-vs-elite/
STATUS:CONFIRMED
END:VEVENT
END:VCALENDAR
