BEGIN:VCALENDAR
VERSION:2.0
PRODID:-//StreamRadar//Match Calendar//EN
CALSCALE:GREGORIAN
METHOD:PUBLISH
X-WR-CALNAME:Recolta Gheorghe Doja vs Voluntari II
X-WR-TIMEZONE:America/New_York
BEGIN:VEVENT
UID:match-5615546@streamradar.soccer
SUMMARY:Recolta Gheorghe Doja vs Voluntari II
DTSTAMP:20260421T093139Z
DTSTART;TZID=America/New_York:20260516T110000
DTEND;TZID=America/New_York:20260516T130000
DESCRIPTION:Dove vedere Recolta Gheorghe Doja vs Voluntari II in Romania - 
 Liga III. Streaming live e programmazione TV.\nhttps://streamradar.soccer/i
 t/match/5615546/recolta-gheorghe-doja-vs-voluntari-ii/
URL;VALUE=URI:https://streamradar.soccer/it/match/5615546/recolta-gheorghe-
 doja-vs-voluntari-ii/
STATUS:CONFIRMED
END:VEVENT
END:VCALENDAR
