BEGIN:VCALENDAR
VERSION:2.0
PRODID:-//StreamRadar//Match Calendar//EN
CALSCALE:GREGORIAN
METHOD:PUBLISH
X-WR-CALNAME:Rubin Yalta vs Kyzyltash
X-WR-TIMEZONE:America/New_York
BEGIN:VEVENT
UID:match-5615524@streamradar.soccer
SUMMARY:Rubin Yalta vs Kyzyltash
DTSTAMP:20260421T104139Z
DTSTART;TZID=America/New_York:20260516T090000
DTEND;TZID=America/New_York:20260516T110000
DESCRIPTION:Dove vedere Rubin Yalta vs Kyzyltash in Russia - FNL 2. Streami
 ng live e programmazione TV.\nhttps://streamradar.soccer/it/match/5615524/r
 ubin-yalta-vs-kyzyltash/
URL;VALUE=URI:https://streamradar.soccer/it/match/5615524/rubin-yalta-vs-ky
 zyltash/
STATUS:CONFIRMED
END:VEVENT
END:VCALENDAR
