BEGIN:VCALENDAR
VERSION:2.0
PRODID:-//StreamRadar//Match Calendar//EN
CALSCALE:GREGORIAN
METHOD:PUBLISH
X-WR-CALNAME:Roskilde vs Næstved
X-WR-TIMEZONE:America/New_York
BEGIN:VEVENT
UID:match-5615514@streamradar.soccer
SUMMARY:Roskilde vs Næstved
DTSTAMP:20260421T071322Z
DTSTART;TZID=America/New_York:20260516T080000
DTEND;TZID=America/New_York:20260516T100000
DESCRIPTION:Dove vedere Roskilde vs Næstved in Danimarca - 1. division dan
 ese. Streaming live e programmazione TV.\nhttps://streamradar.soccer/it/mat
 ch/5615514/roskilde-vs-nastved/
URL;VALUE=URI:https://streamradar.soccer/it/match/5615514/roskilde-vs-nastv
 ed/
STATUS:CONFIRMED
END:VEVENT
END:VCALENDAR
