BEGIN:VCALENDAR
VERSION:2.0
PRODID:-//StreamRadar//Match Calendar//EN
CALSCALE:GREGORIAN
METHOD:PUBLISH
X-WR-CALNAME:HIK vs Thisted
X-WR-TIMEZONE:America/New_York
BEGIN:VEVENT
UID:match-5615513@streamradar.soccer
SUMMARY:HIK vs Thisted
DTSTAMP:20260421T071242Z
DTSTART;TZID=America/New_York:20260516T080000
DTEND;TZID=America/New_York:20260516T100000
DESCRIPTION:Dove vedere HIK vs Thisted in Danimarca - 1. division danese. S
 treaming live e programmazione TV.\nhttps://streamradar.soccer/it/match/561
 5513/hik-vs-thisted/
URL;VALUE=URI:https://streamradar.soccer/it/match/5615513/hik-vs-thisted/
STATUS:CONFIRMED
END:VEVENT
END:VCALENDAR
