BEGIN:VCALENDAR
VERSION:2.0
PRODID:-//StreamRadar//Match Calendar//EN
CALSCALE:GREGORIAN
METHOD:PUBLISH
X-WR-CALNAME:Diarra vs Binga
X-WR-TIMEZONE:America/New_York
BEGIN:VEVENT
UID:match-5615442@streamradar.soccer
SUMMARY:Diarra vs Binga
DTSTAMP:20260420T002202Z
DTSTART;TZID=America/New_York:20260427T120000
DTEND;TZID=America/New_York:20260427T140000
DESCRIPTION:Dove vedere Diarra vs Binga in Mali - Première Division. Strea
 ming live e programmazione TV.\nhttps://streamradar.soccer/it/match/5615442
 /diarra-vs-binga/
URL;VALUE=URI:https://streamradar.soccer/it/match/5615442/diarra-vs-binga/
STATUS:CONFIRMED
END:VEVENT
END:VCALENDAR
