BEGIN:VCALENDAR
VERSION:2.0
PRODID:-//StreamRadar//Match Calendar//EN
CALSCALE:GREGORIAN
METHOD:PUBLISH
X-WR-CALNAME:CSA vs CSE
X-WR-TIMEZONE:America/New_York
BEGIN:VEVENT
UID:match-5615393@streamradar.soccer
SUMMARY:CSA vs CSE
DTSTAMP:20260421T103932Z
DTSTART;TZID=America/New_York:20260516T160000
DTEND;TZID=America/New_York:20260516T180000
DESCRIPTION:Dove vedere CSA vs CSE in Brasile - Serie D. Streaming live e p
 rogrammazione TV.\nhttps://streamradar.soccer/it/match/5615393/csa-vs-cse/
URL;VALUE=URI:https://streamradar.soccer/it/match/5615393/csa-vs-cse/
STATUS:CONFIRMED
END:VEVENT
END:VCALENDAR
