BEGIN:VCALENDAR
VERSION:2.0
PRODID:-//StreamRadar//Match Calendar//EN
CALSCALE:GREGORIAN
METHOD:PUBLISH
X-WR-CALNAME:Altos vs Piauí
X-WR-TIMEZONE:America/New_York
BEGIN:VEVENT
UID:match-5615382@streamradar.soccer
SUMMARY:Altos vs Piauí
DTSTAMP:20260421T092845Z
DTSTART;TZID=America/New_York:20260516T160000
DTEND;TZID=America/New_York:20260516T180000
DESCRIPTION:Dove vedere Altos vs Piauí in Brasile - Serie D. Streaming liv
 e e programmazione TV.\nhttps://streamradar.soccer/it/match/5615382/altos-v
 s-piaui/
URL;VALUE=URI:https://streamradar.soccer/it/match/5615382/altos-vs-piaui/
STATUS:CONFIRMED
END:VEVENT
END:VCALENDAR
