BEGIN:VCALENDAR
VERSION:2.0
PRODID:-//StreamRadar//Match Calendar//EN
CALSCALE:GREGORIAN
METHOD:PUBLISH
X-WR-CALNAME:OFK Beograd vs Vojvodina
X-WR-TIMEZONE:America/New_York
BEGIN:VEVENT
UID:match-5615327@streamradar.soccer
SUMMARY:OFK Beograd vs Vojvodina
DTSTAMP:20260421T092248Z
DTSTART;TZID=America/New_York:20260516T130000
DTEND;TZID=America/New_York:20260516T150000
DESCRIPTION:Dove vedere OFK Beograd vs Vojvodina in Serbia - Super Liga. St
 reaming live e programmazione TV.\nhttps://streamradar.soccer/it/match/5615
 327/ofk-beograd-vs-vojvodina/
URL;VALUE=URI:https://streamradar.soccer/it/match/5615327/ofk-beograd-vs-vo
 jvodina/
STATUS:CONFIRMED
END:VEVENT
END:VCALENDAR
