BEGIN:VCALENDAR
VERSION:2.0
PRODID:-//StreamRadar//Match Calendar//EN
CALSCALE:GREGORIAN
METHOD:PUBLISH
X-WR-CALNAME:Resistencia vs Independiente FBC
X-WR-TIMEZONE:America/New_York
BEGIN:VEVENT
UID:match-5614720@streamradar.soccer
SUMMARY:Resistencia vs Independiente FBC
DTSTAMP:20260421T104257Z
DTSTART;TZID=America/New_York:20260417T160000
DTEND;TZID=America/New_York:20260417T180000
LOCATION:Estadio Tomás Beggan Correa (Asunción)
DESCRIPTION:Dove vedere Resistencia vs Independiente FBC in Paraguay - Segu
 nda División. Streaming live e programmazione TV.\nhttps://streamradar.soc
 cer/it/match/5614720/resistencia-vs-independiente-fbc/
URL;VALUE=URI:https://streamradar.soccer/it/match/5614720/resistencia-vs-in
 dependiente-fbc/
STATUS:CONFIRMED
END:VEVENT
END:VCALENDAR
