BEGIN:VCALENDAR
VERSION:2.0
PRODID:-//StreamRadar//Match Calendar//EN
CALSCALE:GREGORIAN
METHOD:PUBLISH
X-WR-CALNAME:Azam vs Pamba
X-WR-TIMEZONE:America/New_York
BEGIN:VEVENT
UID:match-5614654@streamradar.soccer
SUMMARY:Azam vs Pamba
DTSTAMP:20260421T103952Z
DTSTART;TZID=America/New_York:20260514T113000
DTEND;TZID=America/New_York:20260514T133000
LOCATION:Azam Complex Stadium
DESCRIPTION:Dove vedere Azam vs Pamba in Tanzania Premier League. Streaming
  live e programmazione TV.\nhttps://streamradar.soccer/it/match/5614654/aza
 m-vs-pamba/
URL;VALUE=URI:https://streamradar.soccer/it/match/5614654/azam-vs-pamba/
STATUS:CONFIRMED
END:VEVENT
END:VCALENDAR
