BEGIN:VCALENDAR
VERSION:2.0
PRODID:-//StreamRadar//Match Calendar//EN
CALSCALE:GREGORIAN
METHOD:PUBLISH
X-WR-CALNAME:Hottin vs Shorta
X-WR-TIMEZONE:America/New_York
BEGIN:VEVENT
UID:match-5614602@streamradar.soccer
SUMMARY:Hottin vs Shorta
DTSTAMP:20260421T104032Z
DTSTART;TZID=America/New_York:20260417T080000
DTEND;TZID=America/New_York:20260417T100000
LOCATION:Al Basil Stadium (Latakia)
DESCRIPTION:Dove vedere Hottin vs Shorta in Siria - Premier League. Streami
 ng live e programmazione TV.\nhttps://streamradar.soccer/it/match/5614602/h
 ottin-vs-shorta/
URL;VALUE=URI:https://streamradar.soccer/it/match/5614602/hottin-vs-shorta/
STATUS:CONFIRMED
END:VEVENT
END:VCALENDAR
