BEGIN:VCALENDAR
VERSION:2.0
PRODID:-//StreamRadar//Match Calendar//EN
CALSCALE:GREGORIAN
METHOD:PUBLISH
X-WR-CALNAME:Croydon Kings vs MetroStars
X-WR-TIMEZONE:America/New_York
BEGIN:VEVENT
UID:match-5614506@streamradar.soccer
SUMMARY:Croydon Kings vs MetroStars
DTSTAMP:20260421T093628Z
DTSTART;TZID=America/New_York:20260523T010000
DTEND;TZID=America/New_York:20260523T030000
LOCATION:Regency Park
DESCRIPTION:Dove vedere Croydon Kings vs MetroStars in Australia - NPL SA. 
 Streaming live e programmazione TV.\nhttps://streamradar.soccer/it/match/56
 14506/croydon-kings-vs-metrostars/
URL;VALUE=URI:https://streamradar.soccer/it/match/5614506/croydon-kings-vs-
 metrostars/
STATUS:CONFIRMED
END:VEVENT
END:VCALENDAR
