BEGIN:VCALENDAR
VERSION:2.0
PRODID:-//StreamRadar//Match Calendar//EN
CALSCALE:GREGORIAN
METHOD:PUBLISH
X-WR-CALNAME:Sundby vs Frem
X-WR-TIMEZONE:America/New_York
BEGIN:VEVENT
UID:match-5613200@streamradar.soccer
SUMMARY:Sundby vs Frem
DTSTAMP:20260421T084238Z
DTSTART;TZID=America/New_York:20260508T130000
DTEND;TZID=America/New_York:20260508T150000
DESCRIPTION:Dove vedere Sundby vs Frem in Danimarca - Terza Divisione Danes
 e. Streaming live e programmazione TV.\nhttps://streamradar.soccer/it/match
 /5613200/sundby-vs-frem/
URL;VALUE=URI:https://streamradar.soccer/it/match/5613200/sundby-vs-frem/
STATUS:CONFIRMED
END:VEVENT
END:VCALENDAR
