BEGIN:VCALENDAR
VERSION:2.0
PRODID:-//StreamRadar//Match Calendar//EN
CALSCALE:GREGORIAN
METHOD:PUBLISH
X-WR-CALNAME:Frem vs Vejgaard B
X-WR-TIMEZONE:America/New_York
BEGIN:VEVENT
UID:match-5613192@streamradar.soccer
SUMMARY:Frem vs Vejgaard B
DTSTAMP:20260421T104036Z
DTSTART;TZID=America/New_York:20260418T080000
DTEND;TZID=America/New_York:20260418T100000
LOCATION:Valby Idraetspark
DESCRIPTION:Dove vedere Frem vs Vejgaard B in Danimarca - Terza Divisione D
 anese. Streaming live e programmazione TV.\nhttps://streamradar.soccer/it/m
 atch/5613192/frem-vs-vejgaard-b/
URL;VALUE=URI:https://streamradar.soccer/it/match/5613192/frem-vs-vejgaard-
 b/
STATUS:CONFIRMED
END:VEVENT
END:VCALENDAR
