BEGIN:VCALENDAR
VERSION:2.0
PRODID:-//StreamRadar//Match Calendar//EN
CALSCALE:GREGORIAN
METHOD:PUBLISH
X-WR-CALNAME:Næsby vs Hørsholm-Usserød
X-WR-TIMEZONE:America/New_York
BEGIN:VEVENT
UID:match-5613188@streamradar.soccer
SUMMARY:Næsby vs Hørsholm-Usserød
DTSTAMP:20260421T050819Z
DTSTART;TZID=America/New_York:20260509T080000
DTEND;TZID=America/New_York:20260509T100000
LOCATION:ALPI Arena Naesby
DESCRIPTION:Dove vedere Næsby vs Hørsholm-Usserød in Danimarca - Terza D
 ivisione Danese. Streaming live e programmazione TV.\nhttps://streamradar.s
 occer/it/match/5613188/nasby-vs-horsholm-usserod/
URL;VALUE=URI:https://streamradar.soccer/it/match/5613188/nasby-vs-horsholm
 -usserod/
STATUS:CONFIRMED
END:VEVENT
END:VCALENDAR
