BEGIN:VCALENDAR
VERSION:2.0
PRODID:-//StreamRadar//Match Calendar//EN
CALSCALE:GREGORIAN
METHOD:PUBLISH
X-WR-CALNAME:Nykøbing vs Brønshøj
X-WR-TIMEZONE:America/New_York
BEGIN:VEVENT
UID:match-5613186@streamradar.soccer
SUMMARY:Nykøbing vs Brønshøj
DTSTAMP:20260421T093623Z
DTSTART;TZID=America/New_York:20260503T080000
DTEND;TZID=America/New_York:20260503T100000
LOCATION:Lollands Bank Park
DESCRIPTION:Dove vedere Nykøbing vs Brønshøj in Danimarca - Terza Divisi
 one Danese. Streaming live e programmazione TV.\nhttps://streamradar.soccer
 /it/match/5613186/nykobing-vs-bronshoj/
URL;VALUE=URI:https://streamradar.soccer/it/match/5613186/nykobing-vs-brons
 hoj/
STATUS:CONFIRMED
END:VEVENT
END:VCALENDAR
