BEGIN:VCALENDAR
VERSION:2.0
PRODID:-//StreamRadar//Match Calendar//EN
CALSCALE:GREGORIAN
METHOD:PUBLISH
X-WR-CALNAME:Al Zawra'a vs Diala
X-WR-TIMEZONE:America/New_York
BEGIN:VEVENT
UID:match-5613063@streamradar.soccer
SUMMARY:Al Zawra'a vs Diala
DTSTAMP:20260421T054903Z
DTSTART;TZID=America/New_York:20260422T123000
DTEND;TZID=America/New_York:20260422T143000
LOCATION:Al-Shaab Stadium (Baġdād (Bagdad))
DESCRIPTION:Dove vedere Al Zawra'a vs Diala in Iraqi Premier League. Stream
 ing live e programmazione TV.\nhttps://streamradar.soccer/it/match/5613063/
 al-zawra-a-vs-diala/
URL;VALUE=URI:https://streamradar.soccer/it/match/5613063/al-zawra-a-vs-dia
 la/
STATUS:CONFIRMED
END:VEVENT
END:VCALENDAR
