BEGIN:VCALENDAR
VERSION:2.0
PRODID:-//StreamRadar//Match Calendar//EN
CALSCALE:GREGORIAN
METHOD:PUBLISH
X-WR-CALNAME:Al Shorta vs Al-Qasim
X-WR-TIMEZONE:America/New_York
BEGIN:VEVENT
UID:match-5613060@streamradar.soccer
SUMMARY:Al Shorta vs Al-Qasim
DTSTAMP:20260421T055515Z
DTSTART;TZID=America/New_York:20260422T100000
DTEND;TZID=America/New_York:20260422T120000
LOCATION:Al-Shaab Stadium (Baġdād (Bagdad))
DESCRIPTION:Dove vedere Al Shorta vs Al-Qasim in Iraqi Premier League. Stre
 aming live e programmazione TV.\nhttps://streamradar.soccer/it/match/561306
 0/al-shorta-vs-al-qasim/
URL;VALUE=URI:https://streamradar.soccer/it/match/5613060/al-shorta-vs-al-q
 asim/
STATUS:CONFIRMED
END:VEVENT
END:VCALENDAR
