BEGIN:VCALENDAR
VERSION:2.0
PRODID:-//StreamRadar//Match Calendar//EN
CALSCALE:GREGORIAN
METHOD:PUBLISH
X-WR-CALNAME:Skive vs FC Helsingør
X-WR-TIMEZONE:America/New_York
BEGIN:VEVENT
UID:match-5612719@streamradar.soccer
SUMMARY:Skive vs FC Helsingør
DTSTAMP:20260421T071541Z
DTSTART;TZID=America/New_York:20260508T130000
DTEND;TZID=America/New_York:20260508T150000
DESCRIPTION:Dove vedere Skive vs FC Helsingør in Danimarca - 1. division d
 anese. Streaming live e programmazione TV.\nhttps://streamradar.soccer/it/m
 atch/5612719/skive-vs-fc-helsingor/
URL;VALUE=URI:https://streamradar.soccer/it/match/5612719/skive-vs-fc-helsi
 ngor/
STATUS:CONFIRMED
END:VEVENT
END:VCALENDAR
